BEGIN:VCALENDAR
VERSION:2.0
PRODID:-//hacksw/handcal//NONSGML v1.0//EN
BEGIN:VEVENT
SUMMARY:1ere Rencontre Avenirs (U9/U10/U11)
UID:261fd45a-d6d4-4ff5-9f12-6aafa00f3418
DTSTART:20260125T130000Z
DTEND:20260125T163000Z
LOCATION:Localisation Piscine 2 rue du College 27360 PONT SAINT PIERRE
CATEGORIES:Sportif
STATUS:
DESCRIPTION:<div class="panc news news-info">
 <h2><span
 class="important">Competition</span> 🏊 1ere Rencontre Avenirs
 (U9/U10/U11)</h2>
 
 <ul class="resume">
 	<li class="chip">📍 Piscine
 de Pont-Saint-Pierre</li>
 	<li class="chip">⏱️ Ouverture 14h00 ·
 Debut 15h00</li>
 <li class="chip">🏊 Sections :
 <strong>C1</strong></li>
 	<li class="chip">🔗 <a
 href="https://www.liveffn.com/cgi-bin/index.php?competition=92156"
 target="_blank" rel="noreferrer
 noopener"><strong>LiveFFN</strong></a></li>
 </ul>
 
 <h3>Programme</h3>
 
 <div
 class="programme-grid">
 <div class="programme-col">
 <ul>
 	<li>50 m
 Papillon</li>
 	<li>50 m Dos</li>
 	<li>50 m
 Brasse</li>
 </ul>
 </div>
 
 <div class="programme-col">
 <ul>
 	<li>50 m
 Nage Libre</li>
 	<li><strong>100 m 4 Nages</strong></li>
 	<li>Relais
 4 x 50 m Nage Libre</li>
 </ul>
 </div>
 </div>
 
 <p
 class="panc-card"><strong>Regles d’engagement :</strong> 3 epreuves
 maximum par nageur. Pour etre classe, il faut etre engage
 <strong>obligatoirement</strong> sur le <strong>100 m 4
 Nages</strong> + <strong>2 x 50 m</strong> au choix. Un nageur engage
 sur <strong>3 x 50 m</strong> ne sera pas classe (mais ses
 performances seront
 comptabilisees).</p>
 
 <h3>Recompenses</h3>
 
 <ul>
 	<li>🥇 Une
 medaille aux <strong>5 premiers</strong> par annee d’age
 (classement des 3 epreuves)</li>
 	<li>🏅 Une medaille aux <strong>3
 premiers relais</strong></li>
 </ul>
 
 <h3>Informations
 sportives</h3>
 
 <ul>
 	<li>🚫 <strong>Combinaison interdite</strong>
 pour la categorie Avenirs (competitions departementales et
 regionales)</li>
 </ul>
 </div>
URL;VALUE=URI:https://www.panc.fr/evenements/2026/01/25/1ere-rencontre-avenirs-u9u10u11-2395074
END:VEVENT
END:VCALENDAR
