BEGIN:VCALENDAR
VERSION:2.0
PRODID:-//hacksw/handcal//NONSGML v1.0//EN
BEGIN:VEVENT
SUMMARY:Meeting des requins Couronnais
UID:ac63641c-f286-4b24-babc-c0dd8c8741ea
DTSTART:20260125T064500Z
DTEND:20260125T170000Z
LOCATION:Localisation Centre aquatique Alex Jany 76530 Grand-Couronne
CATEGORIES:Sportif
STATUS:
DESCRIPTION:<div class="panc news news-info">
 <h2><span
 class="important">Competition</span> 🏊‍♂️ Meeting des
 Requins Couronnais</h2>
 
 <ul class="resume">
 	<li class="chip">Bassin
 de 50 m</li>
 	<li class="chip">Chronometrage electronique</li>
 	<li
 class="chip">Participation PANC : dimanche</li>
 	<li
 class="chip">🏊 Sections : <strong>C2, C3</strong></li>
 	<li
 class="chip">🔗 <a
 href="https://www.liveffn.com/cgi-bin/index.php?competition=92331"
 target="_blank" rel="noreferrer
 noopener"><strong>LiveFFN</strong></a></li>
 </ul>
 
 <p>Le
 <strong>Pont-Audemer Nautic Club</strong> participera au
 <strong>Meeting des Requins Couronnais</strong> uniquement le
 <strong>dimanche</strong>. Cette competition labellisee regionale
 permet aux nageurs de se mesurer a une opposition relevee et de
 valider leur progression en bassin de 50 m.</p>
 
 <h3>📅 Programme
 du dimanche</h3>
 
 <div class="programme-grid">
 <div
 class="programme-col">
 <h4>Dimanche matin (ouverture : 7h45, debut
 9h00)</h4>
 
 <ul>
 	<li>100 m Dos – series</li>
 	<li>50 m Brasse –
 series</li>
 	<li>200 m 4 Nages – series</li>
 	<li>50 m Nage Libre
 – series</li>
 	<li>100 m Papillon – series</li>
 	<li>200 m Nage
 Libre – series (Dames)</li>
 	<li>400 m Nage Libre – series
 (Messieurs)</li>
 </ul>
 </div>
 
 <div
 class="programme-col">
 <h4>Dimanche apres-midi (ouverture : 14h00,
 debut 15h15)</h4>
 
 <ul>
 	<li>400 m Nage Libre – series
 (Dames)</li>
 	<li>200 m Nage Libre – series
 (Messieurs)</li>
 	<li>200 m Brasse – series</li>
 	<li>100 m Dos –
 finales</li>
 	<li>100 m Papillon – finales</li>
 	<li>50 m Brasse
 – finales</li>
 	<li>50 m Nage Libre – finales</li>
 	<li>Relais
 4×100 m Nage Libre – series
 mixtes</li>
 </ul>
 </div>
 </div>
 
 <h3>🏅
 Recompenses</h3>
 
 <ul>
 	<li>Les <strong>3 premiers de chaque nage et
 de chaque categorie</strong> seront recompenses par une
 medaille.</li>
 	<li>Un classement a la <strong>table de
 cotation</strong> sera etabli sur le cumul des points de la journee ;
 les <strong>3 meilleurs de chaque categorie</strong> recevront un
 cheque cadeau.</li>
 </ul>
 </div>
URL;VALUE=URI:https://www.panc.fr/evenements/2026/01/25/meeting-des-requins-couronnais-2395335
END:VEVENT
END:VCALENDAR
