BEGIN:VCALENDAR
VERSION:2.0
PRODID:-//hacksw/handcal//NONSGML v1.0//EN
BEGIN:VEVENT
SUMMARY:1ere Rencontre Benjamins (U12/U13)
UID:8c162d34-c61e-4cb8-9dbf-8ec908a542da
DTSTART:20260201T074500Z
DTEND:20260201T163000Z
LOCATION:Localisation Piscine TARON , rue Albert CAMUS 27120 PACY SUR EURE
CATEGORIES:Sportif
STATUS:
DESCRIPTION:<div class="panc news news-info">
 <h2><span
 class="important">Competition</span> 🏊 1ere rencontre
 Benjamins</h2>
 
 <ul class="resume">
 	<li class="chip">📅 Dimanche
 1er fevrier 2026</li>
 	<li class="chip">📍 Piscine de
 PACY</li>
 	<li class="chip">👧🧒 Benjamins U13 : B1 (2014) & B2
 (2013)</li>
 	<li class="chip">🏊 Sections :
 <strong>C2</strong></li>
 <li class="chip">🔗 <a
 href="https://www.liveffn.com/cgi-bin/index.php?competition=92157&langue=fra"
 target="_blank" rel="noreferrer
 noopener"><strong>LiveFFN</strong></a></li>
 </ul>
 
 <h3>🕒
 Horaires</h3>
 
 <ul>
 	<li><b>Matin :</b> ouverture des portes a
 <b>8h45</b> – debut des epreuves a
 <b>9h45</b></li>
 	<li><b>Apres-midi :</b> ouverture des portes a
 <b>14h00</b> – debut des epreuves a
 <b>15h00</b></li>
 </ul>
 
 <h3>📋 Programme</h3>
 
 <div
 class="programme-grid">
 <div
 class="programme-col">
 <h4>Matin</h4>
 
 <ul>
 	<li>50 m
 Brasse</li>
 	<li>100 m Brasse <b>B1</b></li>
 	<li>200 m Brasse
 <b>B2</b></li>
 	<li>50 m Papillon</li>
 	<li>100 m Papillon
 <b>B1</b></li>
 	<li>200 m Papillon <b>B2</b></li>
 	<li>100 m 4 Nages
 <b>B1</b></li>
 </ul>
 </div>
 
 <div
 class="programme-col">
 <h4>Apres-midi</h4>
 
 <ul>
 	<li>50 m Nage
 Libre</li>
 	<li>100 m Nage Libre <b>B1</b></li>
 	<li>200 m Nage Libre
 <b>B2</b></li>
 	<li>50 m Dos</li>
 	<li>100 m Dos
 <b>B1</b></li>
 	<li>200 m Dos <b>B2</b></li>
 	<li>200 m 4 Nages
 <b>B2</b></li>
 </ul>
 </div>
 </div>
 
 <h3>Informations
 sportives</h3>
 
 <ul>
 	<li><b>2 epreuves maximum</b> par nageur et par
 reunion.</li>
 	<li>Sur la journee : <b>1 x 50 m au choix</b> + <b>3
 epreuves</b> de son annee d’age.</li>
 	<li>Les nageurs debutants
 peuvent s’inscrire sur plusieurs 50 m : performances
 <b>enregistrees mais non classees</b>.</li>
 	<li><b>Combinaison
 interdite</b> en categorie
 Benjamins.</li>
 </ul>
 
 <h3>Recompenses</h3>
 
 <ul>
 	<li>🎖️
 <b>Medailles</b> aux <b>5 premiers</b> par annee d’age (classement
 sur les <b>4 epreuves de la journee</b>).</li>
 	<li>🏆 <b>Trophee
 “Meilleur Nageur Complet”</b> remis lors des Departementaux Hiver
 (classement global sur l’ensemble des epreuves).</li>
 </ul>
 
 <div
 class="panc-card ok-card"><b>Bon a savoir :</b> cette rencontre
 marque le debut de la saison departementale pour les
 Benjamins.</div>
 </div>
URL;VALUE=URI:https://www.panc.fr/evenements/2026/02/01/1ere-rencontre-benjamins-u12u13-2395077
END:VEVENT
END:VCALENDAR
